BEGIN:VCALENDAR
VERSION:2.0
PRODID:-//Anna Julia Cooper School - ECPv6.15.20//NONSGML v1.0//EN
CALSCALE:GREGORIAN
METHOD:PUBLISH
X-WR-CALNAME:Anna Julia Cooper School
X-ORIGINAL-URL:https://ajcschool.org
X-WR-CALDESC:Events for Anna Julia Cooper School
REFRESH-INTERVAL;VALUE=DURATION:PT1H
X-Robots-Tag:noindex
X-PUBLISHED-TTL:PT1H
BEGIN:VTIMEZONE
TZID:America/New_York
BEGIN:DAYLIGHT
TZOFFSETFROM:-0500
TZOFFSETTO:-0400
TZNAME:EDT
DTSTART:20250309T070000
END:DAYLIGHT
BEGIN:STANDARD
TZOFFSETFROM:-0400
TZOFFSETTO:-0500
TZNAME:EST
DTSTART:20251102T060000
END:STANDARD
BEGIN:DAYLIGHT
TZOFFSETFROM:-0500
TZOFFSETTO:-0400
TZNAME:EDT
DTSTART:20260308T070000
END:DAYLIGHT
BEGIN:STANDARD
TZOFFSETFROM:-0400
TZOFFSETTO:-0500
TZNAME:EST
DTSTART:20261101T060000
END:STANDARD
BEGIN:DAYLIGHT
TZOFFSETFROM:-0500
TZOFFSETTO:-0400
TZNAME:EDT
DTSTART:20270314T070000
END:DAYLIGHT
BEGIN:STANDARD
TZOFFSETFROM:-0400
TZOFFSETTO:-0500
TZNAME:EST
DTSTART:20271107T060000
END:STANDARD
END:VTIMEZONE
BEGIN:VEVENT
DTSTART;TZID=America/New_York:20260206T163000
DTEND;TZID=America/New_York:20260206T173000
DTSTAMP:20260420T081744
CREATED:20260203T183848Z
LAST-MODIFIED:20260318T185137Z
UID:10000101-1770395400-1770399000@ajcschool.org
SUMMARY:Varsity Girls Basketball Game vs Our Lady of Lourdes @ Our Lady of Lourdes School
DESCRIPTION:
URL:https://ajcschool.org/event/varsity-girls-basketball-game-vs-our-lady-of-lourdes-our-lady-of-lourdes-school/
LOCATION:Our Lady of Lourdes Church\, 8200 Woodman Rd\, Lakeside\, VA\, United States
CATEGORIES:Athletics
GEO:37.630105;-77.483288
X-APPLE-STRUCTURED-LOCATION;VALUE=URI;X-ADDRESS=Our Lady of Lourdes Church 8200 Woodman Rd Lakeside VA United States;X-APPLE-RADIUS=500;X-TITLE=8200 Woodman Rd:geo:-77.483288,37.630105
END:VEVENT
END:VCALENDAR