BEGIN:VCALENDAR
VERSION:2.0
PRODID:-//Anna Julia Cooper School - ECPv6.15.20//NONSGML v1.0//EN
CALSCALE:GREGORIAN
METHOD:PUBLISH
X-ORIGINAL-URL:https://ajcschool.org
X-WR-CALDESC:Events for Anna Julia Cooper School
REFRESH-INTERVAL;VALUE=DURATION:PT1H
X-Robots-Tag:noindex
X-PUBLISHED-TTL:PT1H
BEGIN:VTIMEZONE
TZID:America/New_York
BEGIN:DAYLIGHT
TZOFFSETFROM:-0500
TZOFFSETTO:-0400
TZNAME:EDT
DTSTART:20250309T070000
END:DAYLIGHT
BEGIN:STANDARD
TZOFFSETFROM:-0400
TZOFFSETTO:-0500
TZNAME:EST
DTSTART:20251102T060000
END:STANDARD
BEGIN:DAYLIGHT
TZOFFSETFROM:-0500
TZOFFSETTO:-0400
TZNAME:EDT
DTSTART:20260308T070000
END:DAYLIGHT
BEGIN:STANDARD
TZOFFSETFROM:-0400
TZOFFSETTO:-0500
TZNAME:EST
DTSTART:20261101T060000
END:STANDARD
BEGIN:DAYLIGHT
TZOFFSETFROM:-0500
TZOFFSETTO:-0400
TZNAME:EDT
DTSTART:20270314T070000
END:DAYLIGHT
BEGIN:STANDARD
TZOFFSETFROM:-0400
TZOFFSETTO:-0500
TZNAME:EST
DTSTART:20271107T060000
END:STANDARD
END:VTIMEZONE
BEGIN:VEVENT
DTSTART;TZID=America/New_York:20260410T185000
DTEND;TZID=America/New_York:20260410T193000
DTSTAMP:20260421T131104
CREATED:20260410T143323Z
LAST-MODIFIED:20260417T190028Z
UID:10000130-1775847000-1775849400@ajcschool.org
SUMMARY:5th / 6th Grade Flag Football Team(Vikings) vs Saints
DESCRIPTION:
URL:https://ajcschool.org/event/5th-6th-grade-flag-football-teamvikings-vs-saints/
LOCATION:Glover Park\, 11217 Greenwood Rd\, Glen Allen\, VA\, United States
CATEGORIES:Athletics
GEO:37.678986;-77.494118
X-APPLE-STRUCTURED-LOCATION;VALUE=URI;X-ADDRESS=Glover Park 11217 Greenwood Rd Glen Allen VA United States;X-APPLE-RADIUS=500;X-TITLE=11217 Greenwood Rd:geo:-77.494118,37.678986
END:VEVENT
BEGIN:VEVENT
DTSTART;TZID=America/New_York:20260410T180000
DTEND;TZID=America/New_York:20260410T190000
DTSTAMP:20260421T131104
CREATED:20260410T143322Z
LAST-MODIFIED:20260417T190051Z
UID:10000129-1775844000-1775847600@ajcschool.org
SUMMARY:7th / 8th Girls Flag Football Game vs Lady Dolphins
DESCRIPTION:
URL:https://ajcschool.org/event/7th-8th-girls-flag-football-game-vs-lady-dolphins/
LOCATION:Glover Park\, 11217 Greenwood Rd\, Glen Allen\, VA\, United States
CATEGORIES:Athletics
GEO:37.678986;-77.494118
X-APPLE-STRUCTURED-LOCATION;VALUE=URI;X-ADDRESS=Glover Park 11217 Greenwood Rd Glen Allen VA United States;X-APPLE-RADIUS=500;X-TITLE=11217 Greenwood Rd:geo:-77.494118,37.678986
END:VEVENT
END:VCALENDAR