BEGIN:VCALENDAR
VERSION:2.0
PRODID:-//Anna Julia Cooper School - ECPv6.15.20//NONSGML v1.0//EN
CALSCALE:GREGORIAN
METHOD:PUBLISH
X-WR-CALNAME:Anna Julia Cooper School
X-ORIGINAL-URL:https://ajcschool.org
X-WR-CALDESC:Events for Anna Julia Cooper School
REFRESH-INTERVAL;VALUE=DURATION:PT1H
X-Robots-Tag:noindex
X-PUBLISHED-TTL:PT1H
BEGIN:VTIMEZONE
TZID:America/New_York
BEGIN:DAYLIGHT
TZOFFSETFROM:-0500
TZOFFSETTO:-0400
TZNAME:EDT
DTSTART:20240310T070000
END:DAYLIGHT
BEGIN:STANDARD
TZOFFSETFROM:-0400
TZOFFSETTO:-0500
TZNAME:EST
DTSTART:20241103T060000
END:STANDARD
BEGIN:DAYLIGHT
TZOFFSETFROM:-0500
TZOFFSETTO:-0400
TZNAME:EDT
DTSTART:20250309T070000
END:DAYLIGHT
BEGIN:STANDARD
TZOFFSETFROM:-0400
TZOFFSETTO:-0500
TZNAME:EST
DTSTART:20251102T060000
END:STANDARD
BEGIN:DAYLIGHT
TZOFFSETFROM:-0500
TZOFFSETTO:-0400
TZNAME:EDT
DTSTART:20260308T070000
END:DAYLIGHT
BEGIN:STANDARD
TZOFFSETFROM:-0400
TZOFFSETTO:-0500
TZNAME:EST
DTSTART:20261101T060000
END:STANDARD
END:VTIMEZONE
BEGIN:VEVENT
DTSTART;TZID=America/New_York:20250917T160000
DTEND;TZID=America/New_York:20250917T170000
DTSTAMP:20260421T174819
CREATED:20250623T164027Z
LAST-MODIFIED:20250831T224102Z
UID:10000010-1758124800-1758128400@ajcschool.org
SUMMARY:Football Scrimmage @ Collegiate (Robins Campus)
DESCRIPTION:
URL:https://ajcschool.org/event/football-scrimmage-collegiate-robins-campus/
LOCATION:Collegiate – Robins Campus\, 400 Blair Road\, Richmond\, VA\, 23238\, United States
CATEGORIES:Athletics
GEO:37.59552;-77.647849
X-APPLE-STRUCTURED-LOCATION;VALUE=URI;X-ADDRESS=Collegiate – Robins Campus 400 Blair Road Richmond VA 23238 United States;X-APPLE-RADIUS=500;X-TITLE=400 Blair Road:geo:-77.647849,37.59552
END:VEVENT
END:VCALENDAR