BEGIN:VCALENDAR
VERSION:2.0
PRODID:-//Anna Julia Cooper School - ECPv6.15.20//NONSGML v1.0//EN
CALSCALE:GREGORIAN
METHOD:PUBLISH
X-WR-CALNAME:Anna Julia Cooper School
X-ORIGINAL-URL:https://ajcschool.org
X-WR-CALDESC:Events for Anna Julia Cooper School
REFRESH-INTERVAL;VALUE=DURATION:PT1H
X-Robots-Tag:noindex
X-PUBLISHED-TTL:PT1H
BEGIN:VTIMEZONE
TZID:America/New_York
BEGIN:DAYLIGHT
TZOFFSETFROM:-0500
TZOFFSETTO:-0400
TZNAME:EDT
DTSTART:20240310T070000
END:DAYLIGHT
BEGIN:STANDARD
TZOFFSETFROM:-0400
TZOFFSETTO:-0500
TZNAME:EST
DTSTART:20241103T060000
END:STANDARD
BEGIN:DAYLIGHT
TZOFFSETFROM:-0500
TZOFFSETTO:-0400
TZNAME:EDT
DTSTART:20250309T070000
END:DAYLIGHT
BEGIN:STANDARD
TZOFFSETFROM:-0400
TZOFFSETTO:-0500
TZNAME:EST
DTSTART:20251102T060000
END:STANDARD
BEGIN:DAYLIGHT
TZOFFSETFROM:-0500
TZOFFSETTO:-0400
TZNAME:EDT
DTSTART:20260308T070000
END:DAYLIGHT
BEGIN:STANDARD
TZOFFSETFROM:-0400
TZOFFSETTO:-0500
TZNAME:EST
DTSTART:20261101T060000
END:STANDARD
END:VTIMEZONE
BEGIN:VEVENT
DTSTART;TZID=America/New_York:20251029T160000
DTEND;TZID=America/New_York:20251029T170000
DTSTAMP:20260421T112638
CREATED:20250623T164030Z
LAST-MODIFIED:20251028T004705Z
UID:10000015-1761753600-1761757200@ajcschool.org
SUMMARY:Football Game vs Benedictine
DESCRIPTION:
URL:https://ajcschool.org/event/football-game-vs-benedictine-2/
LOCATION:Benedictine\, 12829 River Rd\, Richmond\, VA\, 23238\, United States
CATEGORIES:Athletics
GEO:37.59552;-77.647849
X-APPLE-STRUCTURED-LOCATION;VALUE=URI;X-ADDRESS=Benedictine 12829 River Rd Richmond VA 23238 United States;X-APPLE-RADIUS=500;X-TITLE=12829 River Rd:geo:-77.647849,37.59552
END:VEVENT
BEGIN:VEVENT
DTSTART;TZID=America/New_York:20250930T170000
DTEND;TZID=America/New_York:20250930T180000
DTSTAMP:20260421T112638
CREATED:20250623T164029Z
LAST-MODIFIED:20250926T213754Z
UID:10000012-1759251600-1759255200@ajcschool.org
SUMMARY:Football Game vs Benedictine
DESCRIPTION:
URL:https://ajcschool.org/event/football-game-vs-benedictine/
LOCATION:Benedictine\, 12829 River Rd\, Richmond\, VA\, 23238\, United States
CATEGORIES:Athletics
GEO:37.59552;-77.647849
X-APPLE-STRUCTURED-LOCATION;VALUE=URI;X-ADDRESS=Benedictine 12829 River Rd Richmond VA 23238 United States;X-APPLE-RADIUS=500;X-TITLE=12829 River Rd:geo:-77.647849,37.59552
END:VEVENT
END:VCALENDAR