BEGIN:VCALENDAR
VERSION:2.0
PRODID:-//Anna Julia Cooper School - ECPv6.15.20//NONSGML v1.0//EN
CALSCALE:GREGORIAN
METHOD:PUBLISH
X-WR-CALNAME:Anna Julia Cooper School
X-ORIGINAL-URL:https://ajcschool.org
X-WR-CALDESC:Events for Anna Julia Cooper School
REFRESH-INTERVAL;VALUE=DURATION:PT1H
X-Robots-Tag:noindex
X-PUBLISHED-TTL:PT1H
BEGIN:VTIMEZONE
TZID:America/New_York
BEGIN:DAYLIGHT
TZOFFSETFROM:-0500
TZOFFSETTO:-0400
TZNAME:EDT
DTSTART:20250309T070000
END:DAYLIGHT
BEGIN:STANDARD
TZOFFSETFROM:-0400
TZOFFSETTO:-0500
TZNAME:EST
DTSTART:20251102T060000
END:STANDARD
BEGIN:DAYLIGHT
TZOFFSETFROM:-0500
TZOFFSETTO:-0400
TZNAME:EDT
DTSTART:20260308T070000
END:DAYLIGHT
BEGIN:STANDARD
TZOFFSETFROM:-0400
TZOFFSETTO:-0500
TZNAME:EST
DTSTART:20261101T060000
END:STANDARD
BEGIN:DAYLIGHT
TZOFFSETFROM:-0500
TZOFFSETTO:-0400
TZNAME:EDT
DTSTART:20270314T070000
END:DAYLIGHT
BEGIN:STANDARD
TZOFFSETFROM:-0400
TZOFFSETTO:-0500
TZNAME:EST
DTSTART:20271107T060000
END:STANDARD
END:VTIMEZONE
BEGIN:VEVENT
DTSTART;TZID=America/New_York:20260424T171500
DTEND;TZID=America/New_York:20260424T181500
DTSTAMP:20260421T090012
CREATED:20260220T184006Z
LAST-MODIFIED:20260421T123549Z
UID:10000116-1777050900-1777054500@ajcschool.org
SUMMARY:Soccer Match vs Seven Hills (B)
DESCRIPTION:
URL:https://ajcschool.org/event/soccer-match-vs-seven-hills-b/
LOCATION:VA
CATEGORIES:Athletics
END:VEVENT
BEGIN:VEVENT
DTSTART;TZID=America/New_York:20260424T180000
DTEND;TZID=America/New_York:20260424T184500
DTSTAMP:20260421T090012
CREATED:20260410T143327Z
LAST-MODIFIED:20260421T123548Z
UID:10000133-1777053600-1777056300@ajcschool.org
SUMMARY:5th / 6th Grade Flag Football Team(Vikings) vs Chiefs
DESCRIPTION:
URL:https://ajcschool.org/event/5th-6th-grade-flag-football-teamvikings-vs-chiefs/
LOCATION:VA
CATEGORIES:Athletics
END:VEVENT
BEGIN:VEVENT
DTSTART;TZID=America/New_York:20260424T185000
DTEND;TZID=America/New_York:20260424T195000
DTSTAMP:20260421T090012
CREATED:20260410T143322Z
LAST-MODIFIED:20260421T123549Z
UID:10000128-1777056600-1777060200@ajcschool.org
SUMMARY:7th / 8th Grade Flag Football Team vs Lady Rams
DESCRIPTION:
URL:https://ajcschool.org/event/7th-8th-grade-flag-football-team-vs-lady-rams/
LOCATION:Midlothian Middle School\, 13501 Midlothian Tpke\, Midlothian\, VA\, United States
CATEGORIES:Athletics
GEO:37.502913;-77.649009
X-APPLE-STRUCTURED-LOCATION;VALUE=URI;X-ADDRESS=Midlothian Middle School 13501 Midlothian Tpke Midlothian VA United States;X-APPLE-RADIUS=500;X-TITLE=13501 Midlothian Tpke:geo:-77.649009,37.502913
END:VEVENT
BEGIN:VEVENT
DTSTART;TZID=America/New_York:20260429T150000
DTEND;TZID=America/New_York:20260429T180000
DTSTAMP:20260421T090012
CREATED:20260318T182613Z
LAST-MODIFIED:20260421T123549Z
UID:10000125-1777474800-1777485600@ajcschool.org
SUMMARY:Track Meet @ Benedictine High School
DESCRIPTION:
URL:https://ajcschool.org/event/track-meet-benedictine-high-school/
LOCATION:Benedictine College Preparatory\, 12829 River Rd\, Richmond\, VA\, United States
CATEGORIES:Athletics
GEO:37.58514;-77.672621
X-APPLE-STRUCTURED-LOCATION;VALUE=URI;X-ADDRESS=Benedictine College Preparatory 12829 River Rd Richmond VA United States;X-APPLE-RADIUS=500;X-TITLE=12829 River Rd:geo:-77.672621,37.58514
END:VEVENT
END:VCALENDAR